BEGIN:VCALENDAR
VERSION:2.0
PRODID:-//Huff Estates - ECPv6.15.20//NONSGML v1.0//EN
CALSCALE:GREGORIAN
METHOD:PUBLISH
X-WR-CALNAME:Huff Estates
X-ORIGINAL-URL:https://huffestates.com
X-WR-CALDESC:Events for Huff Estates
REFRESH-INTERVAL;VALUE=DURATION:PT1H
X-Robots-Tag:noindex
X-PUBLISHED-TTL:PT1H
BEGIN:VTIMEZONE
TZID:UTC
BEGIN:STANDARD
TZOFFSETFROM:+0000
TZOFFSETTO:+0000
TZNAME:UTC
DTSTART:20210101T000000
END:STANDARD
END:VTIMEZONE
BEGIN:VTIMEZONE
TZID:America/Toronto
BEGIN:DAYLIGHT
TZOFFSETFROM:-0500
TZOFFSETTO:-0400
TZNAME:EDT
DTSTART:20170312T070000
END:DAYLIGHT
BEGIN:STANDARD
TZOFFSETFROM:-0400
TZOFFSETTO:-0500
TZNAME:EST
DTSTART:20171105T060000
END:STANDARD
BEGIN:DAYLIGHT
TZOFFSETFROM:-0500
TZOFFSETTO:-0400
TZNAME:EDT
DTSTART:20180311T070000
END:DAYLIGHT
BEGIN:STANDARD
TZOFFSETFROM:-0400
TZOFFSETTO:-0500
TZNAME:EST
DTSTART:20181104T060000
END:STANDARD
BEGIN:DAYLIGHT
TZOFFSETFROM:-0500
TZOFFSETTO:-0400
TZNAME:EDT
DTSTART:20190310T070000
END:DAYLIGHT
BEGIN:STANDARD
TZOFFSETFROM:-0400
TZOFFSETTO:-0500
TZNAME:EST
DTSTART:20191103T060000
END:STANDARD
BEGIN:DAYLIGHT
TZOFFSETFROM:-0500
TZOFFSETTO:-0400
TZNAME:EDT
DTSTART:20200308T070000
END:DAYLIGHT
BEGIN:STANDARD
TZOFFSETFROM:-0400
TZOFFSETTO:-0500
TZNAME:EST
DTSTART:20201101T060000
END:STANDARD
BEGIN:DAYLIGHT
TZOFFSETFROM:-0500
TZOFFSETTO:-0400
TZNAME:EDT
DTSTART:20210314T070000
END:DAYLIGHT
BEGIN:STANDARD
TZOFFSETFROM:-0400
TZOFFSETTO:-0500
TZNAME:EST
DTSTART:20211107T060000
END:STANDARD
BEGIN:DAYLIGHT
TZOFFSETFROM:-0500
TZOFFSETTO:-0400
TZNAME:EDT
DTSTART:20220313T070000
END:DAYLIGHT
BEGIN:STANDARD
TZOFFSETFROM:-0400
TZOFFSETTO:-0500
TZNAME:EST
DTSTART:20221106T060000
END:STANDARD
BEGIN:DAYLIGHT
TZOFFSETFROM:-0500
TZOFFSETTO:-0400
TZNAME:EDT
DTSTART:20230312T070000
END:DAYLIGHT
BEGIN:STANDARD
TZOFFSETFROM:-0400
TZOFFSETTO:-0500
TZNAME:EST
DTSTART:20231105T060000
END:STANDARD
BEGIN:DAYLIGHT
TZOFFSETFROM:-0500
TZOFFSETTO:-0400
TZNAME:EDT
DTSTART:20240310T070000
END:DAYLIGHT
BEGIN:STANDARD
TZOFFSETFROM:-0400
TZOFFSETTO:-0500
TZNAME:EST
DTSTART:20241103T060000
END:STANDARD
BEGIN:DAYLIGHT
TZOFFSETFROM:-0500
TZOFFSETTO:-0400
TZNAME:EDT
DTSTART:20250309T070000
END:DAYLIGHT
BEGIN:STANDARD
TZOFFSETFROM:-0400
TZOFFSETTO:-0500
TZNAME:EST
DTSTART:20251102T060000
END:STANDARD
BEGIN:DAYLIGHT
TZOFFSETFROM:-0500
TZOFFSETTO:-0400
TZNAME:EDT
DTSTART:20260308T070000
END:DAYLIGHT
BEGIN:STANDARD
TZOFFSETFROM:-0400
TZOFFSETTO:-0500
TZNAME:EST
DTSTART:20261101T060000
END:STANDARD
END:VTIMEZONE
BEGIN:VEVENT
DTSTART;TZID=UTC:20250518T130000
DTEND;TZID=UTC:20250518T160000
DTSTAMP:20260420T045804
CREATED:20230222T225325Z
LAST-MODIFIED:20250303T210935Z
UID:12542-1747573200-1747584000@huffestates.com
SUMMARY:TJ Shirk
DESCRIPTION:TJ Shirk\, a versatile cover musician with a passion for bringing timeless tunes to life\, TJ embarked on his musical journey at a young age\, honing his skills across various genres from classic rock anthems to contemporary pop hits\, TJ’s repertoire spans the musical spectrum. His ability to reinterpret and infuse songs with his unique style sets him apart. His soulful voice and dynamic stage presence will have you captivated!
URL:https://huffestates.com/event/melodi-ryan/
LOCATION:Huff Estates Winery\, 2274 County Road 1\, Bloomfield\, Ontario\, k0k1G0\, Canada
CATEGORIES:All Events,Music Events
ATTACH;FMTTYPE=image/jpeg:https://huffestates.com/wp-content/uploads/2023/02/img_2_1736955995191.jpg
END:VEVENT
BEGIN:VEVENT
DTSTART;TZID=America/Toronto:20250511T130000
DTEND;TZID=America/Toronto:20250511T160000
DTSTAMP:20260420T045804
CREATED:20210721T153347Z
LAST-MODIFIED:20250303T205756Z
UID:10296-1746968400-1746979200@huffestates.com
SUMMARY:John Sharkey
DESCRIPTION:Hailing from Bonnie Ol’ Scotland and now proudly calls Picton home\, John is a multi-instrumentalist and singer offering crowd-pleasing classics with a focus on 50s to 90s hits and a sprinkling of more modern tunes. His set lists range from blues to rock\, Motown to pop\, upbeat to easy listening\, whatever the vibe of the crowd is he can engage and play to their liking!
URL:https://huffestates.com/event/robert-keyes-2/
LOCATION:Huff Estates Winery\, 2274 County Road 1\, Bloomfield\, Ontario\, k0k1G0\, Canada
CATEGORIES:All Events,Music Events
ATTACH;FMTTYPE=image/jpeg:https://huffestates.com/wp-content/uploads/2021/07/johnsharkey-with-guitar2.jpg
END:VEVENT
BEGIN:VEVENT
DTSTART;TZID=UTC:20221031T080000
DTEND;TZID=UTC:20221031T170000
DTSTAMP:20260420T045804
CREATED:20221002T000239Z
LAST-MODIFIED:20221026T211037Z
UID:12439-1667203200-1667235600@huffestates.com
SUMMARY:New Music Event
DESCRIPTION:
URL:https://huffestates.com/event/new-music-event/
CATEGORIES:All Events,Music Events
ATTACH;FMTTYPE=image/jpeg:https://huffestates.com/wp-content/uploads/2022/10/38B270CF-35F7-431C-ACE1-9DE4D0247109-1-scaled.jpg
END:VEVENT
BEGIN:VEVENT
DTSTART;VALUE=DATE:20221029
DTEND;VALUE=DATE:20221030
DTSTAMP:20260420T045804
CREATED:20221001T213442Z
LAST-MODIFIED:20221026T211031Z
UID:12419-1667001600-1667087999@huffestates.com
SUMMARY:Sample Winery Event
DESCRIPTION:
URL:https://huffestates.com/event/sample-winery-event/
LOCATION:Huff Estates Winery\, 2274 County Road 1\, Bloomfield\, Ontario\, k0k1G0\, Canada
CATEGORIES:All Events,Winery Events
ATTACH;FMTTYPE=image/jpeg:https://huffestates.com/wp-content/uploads/2022/10/DSC_0287-scaled.jpg
END:VEVENT
BEGIN:VEVENT
DTSTART;VALUE=DATE:20221022
DTEND;VALUE=DATE:20221023
DTSTAMP:20260420T045804
CREATED:20221001T234545Z
LAST-MODIFIED:20221026T211027Z
UID:12432-1666396800-1666483199@huffestates.com
SUMMARY:New Wine Event
DESCRIPTION:This is some content about the wine event. You want to keep the first paragraph free of bullets and numbering styles.
URL:https://huffestates.com/event/new-wine-event/
LOCATION:Huff Estates Winery\, 2274 County Road 1\, Bloomfield\, Ontario\, k0k1G0\, Canada
CATEGORIES:All Events,Winery Events
ATTACH;FMTTYPE=image/jpeg:https://huffestates.com/wp-content/uploads/2022/10/IMG_7095-3-scaled.jpg
END:VEVENT
BEGIN:VEVENT
DTSTART;TZID=UTC:20221017T080000
DTEND;TZID=UTC:20221017T170000
DTSTAMP:20260420T045804
CREATED:20221001T234416Z
LAST-MODIFIED:20221026T211022Z
UID:12429-1665993600-1666026000@huffestates.com
SUMMARY:New Wine Event 2
DESCRIPTION:
URL:https://huffestates.com/event/new-wine-event-2/
CATEGORIES:All Events,Winery Events
ATTACH;FMTTYPE=image/jpeg:https://huffestates.com/wp-content/uploads/2022/10/DSC_0287-1-scaled.jpg
END:VEVENT
BEGIN:VEVENT
DTSTART;VALUE=DATE:20221015
DTEND;VALUE=DATE:20221016
DTSTAMP:20260420T045804
CREATED:20221001T233119Z
LAST-MODIFIED:20221026T211920Z
UID:12446-1665792000-1665878399@huffestates.com
SUMMARY:New Winery Event
DESCRIPTION:
URL:https://huffestates.com/event/sample-winery-event-2/
LOCATION:Huff Estates Winery\, 2274 County Road 1\, Bloomfield\, Ontario\, k0k1G0\, Canada
CATEGORIES:All Events,Winery Events
ATTACH;FMTTYPE=image/jpeg:https://huffestates.com/wp-content/uploads/2022/10/38B270CF-35F7-431C-ACE1-9DE4D0247109-1-scaled.jpg
END:VEVENT
BEGIN:VEVENT
DTSTART;TZID=America/Toronto:20220819T080000
DTEND;TZID=America/Toronto:20220819T170000
DTSTAMP:20260420T045804
CREATED:20220617T143444Z
LAST-MODIFIED:20221026T211013Z
UID:11661-1660896000-1660928400@huffestates.com
SUMMARY:Reg Schwager\, Ted Quinlan and Duncan Hopkins "JAZZ FEST"
DESCRIPTION:An all-star trio of some of Canada’s finest jazz musicians. Guitarist Reb Schwager has performed with George Shearingl\, Peter Appleyard\, and Don Thompson\, and has been performing as a regular member of Emilie-Claire Barlow’s band for many years. He’ll be joining her at the Regent Theatre on Saturday\, August 20. Guitarist Ted Quinlan has shared the stage with Chet Baker\, Freddie Hubbard and Jimmy Smith and we welcome his return to the PEC Jazz Festival. He’ll be appearing multiple times at our festival this year. Duncan Hopkins first played at Huff Estates as a member of the Canadian Jazz Quartet and we’re thrilled to have him back. He has performed with Diana Krall\, The Boss Brass\, and Sam Rivers\, to name just a few.
URL:https://huffestates.com/event/reg-schwager-ted-quinlan-and-duncan-hopkins-jazz-fest/
CATEGORIES:All Events,Music Events
ATTACH;FMTTYPE=image/jpeg:https://huffestates.com/wp-content/uploads/2022/06/Reg.jpg
END:VEVENT
BEGIN:VEVENT
DTSTART;TZID=America/Toronto:20220818T130000
DTEND;TZID=America/Toronto:20220818T160000
DTSTAMP:20260420T045804
CREATED:20180814T193221Z
LAST-MODIFIED:20221026T211007Z
UID:3479-1660827600-1660838400@huffestates.com
SUMMARY:Brian Legere Trio - "JAZZ FEST"
DESCRIPTION:Brian Legere is a Canadian guitarist\, singer who has performed with numerous top Jazz and R&B artists including Martha Reeves and the Vandellas\, Guido Basso\, Dave Young\, Liberty Silver\, Russ Little\, Robi Botos\, Jackie Richardson\, Bernie Senensky\, and Carol Welsman. He has also performed in events opening for James Brown\, Glen Campbell\, Hall and Oates\, Randy Bachman\, and Burton Cummings. \nExpect to hear an exciting\, eclectic Jazz program rooted in Folk\, Blues\, Latin and Soul!
URL:https://huffestates.com/event/brian-legere-trio/
CATEGORIES:All Events,Music Events
ATTACH;FMTTYPE=image/jpeg:https://huffestates.com/wp-content/uploads/2018/08/brian-legere-trio.jpg
END:VEVENT
BEGIN:VEVENT
DTSTART;TZID=America/Toronto:20220710T130000
DTEND;TZID=America/Toronto:20220710T160000
DTSTAMP:20260420T045804
CREATED:20180814T192233Z
LAST-MODIFIED:20221026T211001Z
UID:3474-1657458000-1657468800@huffestates.com
SUMMARY:Greg Wyard
DESCRIPTION:Greg Wyard is a singer\, songwriter\, guitarist and bass player who has been doing all four from the age of 10. Since moving to Canada from his native England at age 13 and settling in its largest city\, Toronto\, he has earned a reputation as one of its most hardworking solo performers. As a cover performer\, Greg has an encyclopaedic knowledge of popular music. Known for his faithful reproductions of intricate classic rock songs such as Bohemian Rhapsody and Baba O’Reilly using just his voice and guitar\, he can play any one of a thousand songs off the top of his head.
URL:https://huffestates.com/event/tara-davidson/
CATEGORIES:All Events,Music Events
ATTACH;FMTTYPE=image/jpeg:https://huffestates.com/wp-content/uploads/2018/08/Greg-perform-white-bkgrnd_web.jpg
END:VEVENT
BEGIN:VEVENT
DTSTART;TZID=America/Toronto:20220605T130000
DTEND;TZID=America/Toronto:20220605T160000
DTSTAMP:20260420T045804
CREATED:20221021T153612Z
LAST-MODIFIED:20221026T210934Z
UID:10299-1654434000-1654444800@huffestates.com
SUMMARY:Al Lerman
DESCRIPTION:  \nBluesman AL LERMAN is a multi-instrumentalist\, singer and songwriter. He was founder and leader of the 2X Juno Award winning band FATHEAD\, and along the way built a solid career touring as an acoustic solo act\, accompanying himself on guitar and rack harmonica. 
URL:https://huffestates.com/event/al-lerman/
CATEGORIES:All Events,Music Events
ATTACH;FMTTYPE=image/jpeg:https://huffestates.com/wp-content/uploads/2021/07/al-Lerman.jpg
END:VEVENT
BEGIN:VEVENT
DTSTART;TZID=America/Toronto:20220521T130000
DTEND;TZID=America/Toronto:20220521T160000
DTSTAMP:20260420T045804
CREATED:20221022T152149Z
LAST-MODIFIED:20221026T211045Z
UID:11503-1653138000-1653148800@huffestates.com
SUMMARY:Cameron & Cameron
DESCRIPTION:Cameron & Cameron perform an acoustic mix of folk\, pop\, rock and traditional covers & original material as a duo across Ontario. \nSets include: The Beatles\, David Bowie\, The Who\, April Wine\, the Rolling Stones\, Leonard Cohen\, Big Country\, Gerry & The Pacemakers\, Rod Stewart\, Blue Rodeo\, Eagles\, Tragically Hip\, CCR\, Eric Clapton and much much more
URL:https://huffestates.com/event/cameron-cameron/
LOCATION:Untitled
CATEGORIES:All Events,Music Events
ATTACH;FMTTYPE=image/jpeg:https://huffestates.com/wp-content/uploads/2022/04/cameronandcameron.jpeg
END:VEVENT
BEGIN:VEVENT
DTSTART;TZID=America/Toronto:20220515T130000
DTEND;TZID=America/Toronto:20220515T160000
DTSTAMP:20260420T045804
CREATED:20210608T172041Z
LAST-MODIFIED:20221026T211051Z
UID:10031-1652619600-1652630400@huffestates.com
SUMMARY:Chris Bonham-Carter
DESCRIPTION:Chris Bonham-Carter is a guitarist from Prince Edward County who has been playing shows around the area for over 10 years. \nChris began playing guitar in 2002 and studied musical theory with Drew Ackerman for over 5 years. With a list of songs that span across 7 decades\, there is not much he can’t play.
URL:https://huffestates.com/event/chris-bonham-carter/
CATEGORIES:All Events,Music Events
ATTACH;FMTTYPE=image/jpeg:https://huffestates.com/wp-content/uploads/2021/06/bonhamcarter.jpg
END:VEVENT
BEGIN:VEVENT
DTSTART;TZID=America/Toronto:20210926T130000
DTEND;TZID=America/Toronto:20210926T160000
DTSTAMP:20260420T045804
CREATED:20210721T153823Z
LAST-MODIFIED:20221026T211056Z
UID:10302-1632661200-1632672000@huffestates.com
SUMMARY:Act III
DESCRIPTION:Despite decades of playing and performing experience between them\, this eclectic trio is relatively new to the local music scene.  Act III appeals to a wide range of musical tastes covering a variety of styles and genres from old standards to blues\, to smooth rock\, and a little jazz.\nMike Acerra grounds the group with his solid\, rhythmic bass lines while Dave Dexter’s tasteful guitar sounds (electric and acoustic) complement the clean vocal styles of Lorri Taylor.   Enjoy a new twist on some familiar tunes from artists like Bonnie Raitt\, Norah Jones\, Dire Straits\, Heart\, Holly Cole\, and more…
URL:https://huffestates.com/event/act-iii-2/
CATEGORIES:All Events,Music Events
ATTACH;FMTTYPE=image/jpeg:https://huffestates.com/wp-content/uploads/2020/08/Act3.jpg
END:VEVENT
BEGIN:VEVENT
DTSTART;TZID=America/Toronto:20210710T130000
DTEND;TZID=America/Toronto:20210710T160000
DTSTAMP:20260420T045804
CREATED:20210721T152314Z
LAST-MODIFIED:20221026T211351Z
UID:10294-1625922000-1625932800@huffestates.com
SUMMARY:Greg Wyard
DESCRIPTION:
URL:https://huffestates.com/event/greg-wyard-2/
CATEGORIES:All Events,Music Events
ATTACH;FMTTYPE=image/jpeg:https://huffestates.com/wp-content/uploads/2018/08/Greg-perform-white-bkgrnd_web.jpg
END:VEVENT
BEGIN:VEVENT
DTSTART;TZID=America/Toronto:20210703T130000
DTEND;TZID=America/Toronto:20210703T160000
DTSTAMP:20260420T045804
CREATED:20180817T135439Z
LAST-MODIFIED:20221026T211333Z
UID:3496-1625317200-1625328000@huffestates.com
SUMMARY:Matt Smith
DESCRIPTION:This guy can hold a stage with nothing but a guitar and his voice — and when he plays slide guitar\, as he loves to do\, with his blues and roots base it’ll give you chills.
URL:https://huffestates.com/event/matt-smith/
CATEGORIES:All Events,Music Events
ATTACH;FMTTYPE=image/jpeg:https://huffestates.com/wp-content/uploads/2014/07/smith_600_600_70_s_c1_c_t_0_0_1.jpg
END:VEVENT
BEGIN:VEVENT
DTSTART;TZID=America/Toronto:20210615T130000
DTEND;TZID=America/Toronto:20210615T160000
DTSTAMP:20260420T045804
CREATED:20221015T124849Z
LAST-MODIFIED:20221026T211328Z
UID:10097-1623762000-1623772800@huffestates.com
SUMMARY:Greg Wyard
DESCRIPTION:Greg Wyard is a singer\, songwriter\, guitarist and bass player who has been doing all four from the age of 10. Since moving to Canada from his native England at age 13 and settling in its largest city\, Toronto\, he has earned a reputation as one of its most hardworking solo performers. As a cover performer\, Greg has an encyclopaedic knowledge of popular music. Known for his faithful reproductions of intricate classic rock songs such as Bohemian Rhapsody and Baba O’Reilly using just his voice and guitar\, he can play any one of a thousand songs off the top of his head.
URL:https://huffestates.com/event/greg-wyard/
LOCATION:Untitled
CATEGORIES:All Events,Music Events
ATTACH;FMTTYPE=image/jpeg:https://huffestates.com/wp-content/uploads/2018/08/Greg-perform-white-bkgrnd_web.jpg
END:VEVENT
BEGIN:VEVENT
DTSTART;TZID=America/Toronto:20200823T140000
DTEND;TZID=America/Toronto:20200823T170000
DTSTAMP:20260420T045804
CREATED:20200818T151755Z
LAST-MODIFIED:20221026T211324Z
UID:6913-1598191200-1598202000@huffestates.com
SUMMARY:Act III
DESCRIPTION:Despite decades of playing and performing experience between them\, this eclectic trio is relatively new to the local music scene.  Act III appeals to a wide range of musical tastes covering a variety of styles and genres from old standards to blues\, to smooth rock\, and a little jazz.\nMike Acerra grounds the group with his solid\, rhythmic bass lines while Dave Dexter’s tasteful guitar sounds (electric and acoustic) complement the clean vocal styles of Lorri Taylor.   Enjoy a new twist on some familiar tunes from artists like Bonnie Raitt\, Norah Jones\, Dire Straits\, Heart\, Holly Cole\, and more…
URL:https://huffestates.com/event/act-iii/
CATEGORIES:All Events,Music Events
ATTACH;FMTTYPE=image/jpeg:https://huffestates.com/wp-content/uploads/2020/08/Act3.jpg
END:VEVENT
BEGIN:VEVENT
DTSTART;TZID=America/Toronto:20200816T130000
DTEND;TZID=America/Toronto:20200816T160000
DTSTAMP:20260420T045804
CREATED:20190807T153126Z
LAST-MODIFIED:20221026T211344Z
UID:4554-1597582800-1597593600@huffestates.com
SUMMARY:Hannah Barstow - "JAZZ WEEK"
DESCRIPTION:Hannah Barstow (b. 1994) is a pianist\, vocalist and composer in the Toronto music scene. As a performer\, she is firmly rooted in the tradition of jazz\, and is strongly influenced by the classic trios and quartets of Shirley Horn\, Ahmad Jamal and Blossom Dearie. As a composer\, her jazz\, classical\, pop\, and Latin music influences come through. She composes and arranges “tunes” for a range of ensemble sizes from trios to women’s choirs and big bands.
URL:https://huffestates.com/event/hannah-barstow/
LOCATION:Untitled
CATEGORIES:All Events,Music Events
ATTACH;FMTTYPE=image/jpeg:https://huffestates.com/wp-content/uploads/2014/07/HannahBarstow.jpg
END:VEVENT
BEGIN:VEVENT
DTSTART;TZID=America/Toronto:20200815T130000
DTEND;TZID=America/Toronto:20200815T160000
DTSTAMP:20260420T045804
CREATED:20190807T153947Z
LAST-MODIFIED:20221026T211318Z
UID:4557-1597496400-1597507200@huffestates.com
SUMMARY:The Chameleon Jazz Band "JAZZ FEST"
DESCRIPTION:Most people in PEC recognize them as the “Travelling Jazz Van” however they will be performing for 3 hours at Huff Estates on Saturday Aug 15th! Members include… \nJamie Macpherson (Banjo)- Jamie has performed on Caribbean cruises\, festivals in the US\, Scotland\, England and return performances in Denmark. He is also an active member of the Hamilton Harbourtown Sound Chorus. Jamie performed solo for the 25th anniversary gala event of the Stratford Express. He has been a regular performer for the past decade bringing this quintet to the PEC Jazz Festival. \nBrigham Phillips (Trumpet) – has been on the Toronto music scene nearly 40 years as a player (piano and trumpet)\, bandleader\, teacher\, producer\, composer and arranger\, performing jazz\, pop\, Dixieland\, theatre and orchestral music. His CD “And It Really Was” featuring Canadian jazz greats Guido Basso and Mike Murley was nominated for a Juno in 2002 and won Brigham the National Jazz Award for Producer of the Year. \nTom Skublics (Clarinet) – A member of the Shaw Festival pit orchestra since 1998\, Tom is a Humber College Graduate. An accomplished player of all the saxes\, clarinets\, flute and piccolo\, he is one of the most in-demand jazz\, popular\, cabaret\, Klezmer\, Dixieland\, pit orchestra\, and recording session musicians in Canada. Tom has played in many Toronto productions\, including Bat Out of Hell\, Beauty and the Beast\, Crazy for You\, Miss Saigon\, Phantom of the Opera and Showboat. \nPeter Turner (Trombone) – Peter Turner is most known for his work in the traditional jazz and swing scenes of Ottawa and Toronto. In Ottawa\, where he resides\, Peter performs regularly with Bob Misener’s Magnolia Rhythm Kings\, as well as with Peter Liu and the Pollcats. Peter performed across Canada with the Derek Robertson Jazz Band from 1988 to 2000\, and has been a frequent substitute with the Apex Jazz Band. \nDoug Burrell (Tuba) – Doug Burrell has been performing professionally in the Greater Toronto Area since the late 1970’s. He is much in demand both as a jazz tubist and as a classical artist having played with numerous ensembles including Borgy’s Banjo Reunion\, the Juno Award winning NOJO jazz orchestra\, The Dixie Demons \, the Brian Barlow Brass and Drums and Jeff Healey’s Jazz Wizards.
URL:https://huffestates.com/event/lenni-stewart-jazztrio/
LOCATION:Untitled
CATEGORIES:All Events,Music Events
ATTACH;FMTTYPE=image/jpeg:https://huffestates.com/wp-content/uploads/2019/08/IMG_1761.jpg
END:VEVENT
BEGIN:VEVENT
DTSTART;TZID=America/Toronto:20200809T140000
DTEND;TZID=America/Toronto:20200809T170000
DTSTAMP:20260420T045804
CREATED:20180817T140102Z
LAST-MODIFIED:20221026T211313Z
UID:3502-1596981600-1596992400@huffestates.com
SUMMARY:Al Lerman
DESCRIPTION:Bluesman Al Lerman is a multi-instrumentalist\, singer and songwriter. He was founder and leader of the 2X Juno Award winning band FATHEAD\, and along the way built a solid career touring as an acoustic solo act\, accompanying himself on guitar and rack harmonica.
URL:https://huffestates.com/event/robert-keyes/
CATEGORIES:All Events,Music Events
ATTACH;FMTTYPE=image/jpeg:https://huffestates.com/wp-content/uploads/2018/06/AlLerman.jpg
END:VEVENT
BEGIN:VEVENT
DTSTART;TZID=America/Toronto:20200802T140000
DTEND;TZID=America/Toronto:20200802T170000
DTSTAMP:20260420T045804
CREATED:20180817T135859Z
LAST-MODIFIED:20221026T211411Z
UID:3500-1596376800-1596387600@huffestates.com
SUMMARY:Little Red Wagon
DESCRIPTION:Matt and Myranda’s passion for music/singing/entertaining led to the formation of Little Red Wagon!! Covering music from Top 40 artists in many different genres\, LRW delivers and entire evening of all your favourite hits!!
URL:https://huffestates.com/event/little-red-wagon/
CATEGORIES:All Events,Music Events
ATTACH;FMTTYPE=image/jpeg:https://huffestates.com/wp-content/uploads/2018/05/Little-Red-Wagon-e1534514313297.jpg
END:VEVENT
BEGIN:VEVENT
DTSTART;TZID=America/Toronto:20200801T140000
DTEND;TZID=America/Toronto:20200801T170000
DTSTAMP:20260420T045804
CREATED:20200720T163447Z
LAST-MODIFIED:20221026T211308Z
UID:6726-1596290400-1596301200@huffestates.com
SUMMARY:Head Over Heels
DESCRIPTION:An acoustic guitar/vocal duo based out of Gananoque. Kevin and Vanessa perform a diverse mix of original music and interpreted covers of folk\, rock\, blues  covering such artists as James Taylor\, Norah Jones\, Cindy Lauper\, Smokey Robinson\, Blue Rodeo\, The Beatles and many more!
URL:https://huffestates.com/event/head-over-heels/
CATEGORIES:All Events,Music Events
ATTACH;FMTTYPE=image/jpeg:https://huffestates.com/wp-content/uploads/2020/07/head-over-heals-copy.jpg
END:VEVENT
BEGIN:VEVENT
DTSTART;TZID=America/Toronto:20190818T140000
DTEND;TZID=America/Toronto:20190818T170000
DTSTAMP:20260420T045804
CREATED:20180814T193340Z
LAST-MODIFIED:20221026T211402Z
UID:3482-1566136800-1566147600@huffestates.com
SUMMARY:Mike Francis Duo
DESCRIPTION:Mike Francis has been a professional musician since the age of 17. The first several years of his professional career was spent playing the regular club circuit before Mike discovered his ability to perform well under the pressure that is the recording studio. The past 22 years he has worked as a first call studio guitarist in the Toronto recording scene\, as well as being a musician first an foremost\, he is also a writer and producer.
URL:https://huffestates.com/event/mike-francis-duo/
CATEGORIES:All Events,Music Events
ATTACH;FMTTYPE=image/jpeg:https://huffestates.com/wp-content/uploads/2014/07/mike-francis-promo-shot-e1534514573638.jpg
END:VEVENT
BEGIN:VEVENT
DTSTART;TZID=America/Toronto:20190813T140000
DTEND;TZID=America/Toronto:20190813T170000
DTSTAMP:20260420T045804
CREATED:20180814T192828Z
LAST-MODIFIED:20221026T211303Z
UID:3477-1565704800-1565715600@huffestates.com
SUMMARY:Dan Bone Trio
DESCRIPTION:The Dan Bone Groove Trio is an instrumental group comprised of Dan Bone on tenor sax & flute\, Steve Conley on drums and Duncan Cooper on keyboard. The trio has played in the Quinte Area for 15 years.
URL:https://huffestates.com/event/dan-bone-trio/
CATEGORIES:All Events,Music Events
ATTACH;FMTTYPE=image/jpeg:https://huffestates.com/wp-content/uploads/2014/07/DanBoneTrio-e1534274881318.jpg
END:VEVENT
BEGIN:VEVENT
DTSTART;TZID=America/Toronto:20190618T140000
DTEND;TZID=America/Toronto:20190618T170000
DTSTAMP:20260420T045804
CREATED:20180817T135326Z
LAST-MODIFIED:20221026T211406Z
UID:3494-1560866400-1560877200@huffestates.com
SUMMARY:Benni Vander
DESCRIPTION:Ben is a full-time keyboardist/multi-instrumentalist. With years of experience in recording and performing a variety of genres\, an exceptional ear\, touring experience\, and mesmerizing piano skills\, he is ready to make the show unforgettable.
URL:https://huffestates.com/event/ben-vandergaast-duo/
CATEGORIES:All Events,Music Events
ATTACH;FMTTYPE=image/jpeg:https://huffestates.com/wp-content/uploads/2014/07/Ben-Vandergaast.jpg
END:VEVENT
BEGIN:VEVENT
DTSTART;TZID=America/Toronto:20190604T140000
DTEND;TZID=America/Toronto:20190604T170000
DTSTAMP:20260420T045804
CREATED:20190425T155540Z
LAST-MODIFIED:20221026T211259Z
UID:4255-1559656800-1559667600@huffestates.com
SUMMARY:Jeremy Kelly
DESCRIPTION:Jeremy Kelly is a multi­-instrumentalist with a passion for all things creative and soulful. As a guitarist Jeremy has toured\, composed and recorded with renowned artists and producers including Alex Lifeson (Rush)\, Ian Thornley (Big Wreck)\, Blueman Group (Toronto and Chicago productions)\, Edwin (I Mother Earth) and The Rankin Family. Jeremy draws on a love for diverse and eclectic artists for covers and sprinkles in some Canadiana of his own to keep listeners on their toes
URL:https://huffestates.com/event/jeremy-kelly/
CATEGORIES:All Events,Music Events
ATTACH;FMTTYPE=image/jpeg:https://huffestates.com/wp-content/uploads/2019/04/20150301-jeremykelly-DSC_6088-1-1024x682-1.jpg
END:VEVENT
BEGIN:VEVENT
DTSTART;TZID=America/Toronto:20190330T110000
DTEND;TZID=America/Toronto:20190331T170000
DTSTAMP:20260420T045804
CREATED:20190307T161735Z
LAST-MODIFIED:20221026T211254Z
UID:4172-1553943600-1554051600@huffestates.com
SUMMARY:Maple in the County
DESCRIPTION:Join us for Maple in the County at Huff Estates! \nWe will be serving a maple inspired menu for Maple Weekend \nSOUPS & SIDES\n– Maple French Onion Soup\n– Spinach Salad with Maple Bacon\n– Maple Baked Beans \nSANDWICHES\n– Maple Mushroom Naan\n– Grilled Maple Cheese\n– Maple Mustard Glazed Ham Panini \n 
URL:https://huffestates.com/event/maple-in-the-county/
LOCATION:Untitled
CATEGORIES:All Events,Winery Events
ATTACH;FMTTYPE=image/png:https://huffestates.com/wp-content/uploads/2019/03/Screen-Shot-2019-03-07-at-11.15.59-AM.png
END:VEVENT
BEGIN:VEVENT
DTSTART;TZID=America/Toronto:20190328T080000
DTEND;TZID=America/Toronto:20190330T170000
DTSTAMP:20260420T045804
CREATED:20190307T164431Z
LAST-MODIFIED:20221026T211419Z
UID:4176-1553760000-1553965200@huffestates.com
SUMMARY:Ultimate Food & Wine Getaway!
DESCRIPTION:Come and join us for a one or two night getaway and indulge your tastebuds with a true “foodie” experience! \nThursday March 28th\n2pm – Check-in to The Inn at Huff Estates\n3pm – Join guest cheese producer Denis Nadeau of Fromagerie Kapuskoise (Kapuskasing) in a cheese and wine pairing lecture\nEvening – Head out for dinner to one of our partner restaurants with shuttle service provided to and from ($100 dinner voucher per couple included in price). \nFriday March 29th\n2pm – Barrel tasting in the cellar lead by General Manager Jason Sharpe. Taste and learn about the different influences oak has on wine\n6pm – Cooking class lead by Chef Lynne Underhill\, learn her secrets to various salad dressings as well as appetizers followed by a dinner prepared by Lynne \nSaturday March 30th\n11am – Check out and explore the festivities of Maple in the County \n  \nPRICES… \nThursday Night Only – $350/couple \nFriday Night Only – $270/couple \nBoth Nights – $600/couple \n  \nFor more information or to book please e: jason@huffestates.com 
URL:https://huffestates.com/event/ultimate-food-wine-getaway/
CATEGORIES:All Events,Winery Events
ATTACH;FMTTYPE=image/jpeg:https://huffestates.com/wp-content/uploads/2019/03/cheesekap.jpg
END:VEVENT
BEGIN:VEVENT
DTSTART;TZID=America/Toronto:20181117T100000
DTEND;TZID=America/Toronto:20181202T180000
DTSTAMP:20260420T045804
CREATED:20181030T125538Z
LAST-MODIFIED:20221026T211457Z
UID:3882-1542448800-1543773600@huffestates.com
SUMMARY:Wassail!
DESCRIPTION:Join us at Huff Estates for the Wassail festivities this winter! \nDates are Nov 17/18 \, 24/25 & Dec 1/2 \nWe will be offering tastes of our award winning wines as well as a red mulled wine alongside small bite sized wood fired pizza and festive treats prepared by Cuisine Kathleen. \nRestaurant menu will also be Wassail themed including:\n– Curried Squash Soup\n– Welsh Rarebit\n– Wood Fired fall pizza \nMake sure to stop in and see us!
URL:https://huffestates.com/event/wassail/
LOCATION:Untitled
CATEGORIES:All Events,Winery Events
ATTACH;FMTTYPE=image/jpeg:https://huffestates.com/wp-content/uploads/2018/10/winter-wines.jpg
END:VEVENT
END:VCALENDAR